0.2500000000
0.0000000000
0.0000000000
-0.2500000000
490777.3750000000
407224.8750000000
