0.2500000000
0.0000000000
0.0000000000
-0.2500000000
497565.1250000000
409252.3750000000
