0.2500000000
0.0000000000
0.0000000000
-0.2500000000
494213.8750000000
409376.6250000000
