0.2500000000
0.0000000000
0.0000000000
-0.2500000000
494298.3750000000
411653.1250000000
