0.2500000000
0.0000000000
0.0000000000
-0.2500000000
490862.3750000000
409501.3750000000
