0.2500000000
0.0000000000
0.0000000000
-0.2500000000
490947.3750000000
411777.8750000000
