0.2500000000
0.0000000000
0.0000000000
-0.2500000000
494382.8750000000
413929.6250000000
