0.2500000000
0.0000000000
0.0000000000
-0.2500000000
494467.6250000000
416206.1250000000
