0.2500000000
0.0000000000
0.0000000000
-0.2500000000
491032.3750000000
414054.3750000000
