0.2500000000
0.0000000000
0.0000000000
-0.2500000000
491117.1250000000
416330.8750000000
