0.2500000000
0.0000000000
0.0000000000
-0.2500000000
494552.1250000000
418482.6250000000
