0.2500000000
0.0000000000
0.0000000000
-0.2500000000
494636.8750000000
420759.1250000000
