0.2500000000
0.0000000000
0.0000000000
-0.2500000000
491202.1250000000
418607.3750000000
