0.2500000000
0.0000000000
0.0000000000
-0.2500000000
491287.1250000000
420883.8750000000
