0.2500000000
0.0000000000
0.0000000000
-0.2500000000
491372.1250000000
423160.3750000000
