0.2500000000
0.0000000000
0.0000000000
-0.2500000000
491457.1250000000
425436.8750000000
