0.2500000000
0.0000000000
0.0000000000
-0.2500000000
487340.3750000000
405073.8750000000
