0.2500000000
0.0000000000
0.0000000000
-0.2500000000
487425.6250000000
407350.3750000000
