0.2500000000
0.0000000000
0.0000000000
-0.2500000000
483988.3750000000
405199.6250000000
