0.2500000000
0.0000000000
0.0000000000
-0.2500000000
484073.8750000000
407476.1250000000
