0.2500000000
0.0000000000
0.0000000000
-0.2500000000
480636.1250000000
405325.8750000000
