0.2500000000
0.0000000000
0.0000000000
-0.2500000000
480722.1250000000
407602.3750000000
