0.2500000000
0.0000000000
0.0000000000
-0.2500000000
477284.1250000000
405452.8750000000
