0.2500000000
0.0000000000
0.0000000000
-0.2500000000
477370.6250000000
407729.3750000000
