0.2500000000
0.0000000000
0.0000000000
-0.2500000000
473932.1250000000
405580.1250000000
