0.2500000000
0.0000000000
0.0000000000
-0.2500000000
474018.8750000000
407856.6250000000
