0.2500000000
0.0000000000
0.0000000000
-0.2500000000
487510.8750000000
409626.6250000000
