0.2500000000
0.0000000000
0.0000000000
-0.2500000000
487596.3750000000
411903.1250000000
