0.2500000000
0.0000000000
0.0000000000
-0.2500000000
484159.6250000000
409752.6250000000
