0.2500000000
0.0000000000
0.0000000000
-0.2500000000
484245.1250000000
412029.1250000000
