0.2500000000
0.0000000000
0.0000000000
-0.2500000000
480808.1250000000
409878.8750000000
