0.2500000000
0.0000000000
0.0000000000
-0.2500000000
480894.1250000000
412155.3750000000
