0.2500000000
0.0000000000
0.0000000000
-0.2500000000
477456.8750000000
410005.6250000000
