0.2500000000
0.0000000000
0.0000000000
-0.2500000000
477543.1250000000
412282.1250000000
