0.2500000000
0.0000000000
0.0000000000
-0.2500000000
474105.6250000000
410133.1250000000
