0.2500000000
0.0000000000
0.0000000000
-0.2500000000
474192.1250000000
412409.6250000000
