0.2500000000
0.0000000000
0.0000000000
-0.2500000000
487681.6250000000
414179.6250000000
