0.2500000000
0.0000000000
0.0000000000
-0.2500000000
487766.8750000000
416456.1250000000
