0.2500000000
0.0000000000
0.0000000000
-0.2500000000
484330.8750000000
414305.3750000000
