0.2500000000
0.0000000000
0.0000000000
-0.2500000000
484416.6250000000
416581.8750000000
