0.2500000000
0.0000000000
0.0000000000
-0.2500000000
480980.1250000000
414431.8750000000
