0.2500000000
0.0000000000
0.0000000000
-0.2500000000
481066.1250000000
416708.1250000000
