0.2500000000
0.0000000000
0.0000000000
-0.2500000000
477629.6250000000
414558.6250000000
