0.2500000000
0.0000000000
0.0000000000
-0.2500000000
477715.8750000000
416835.1250000000
