0.2500000000
0.0000000000
0.0000000000
-0.2500000000
474278.8750000000
414685.8750000000
