0.2500000000
0.0000000000
0.0000000000
-0.2500000000
474365.6250000000
416962.3750000000
