0.2500000000
0.0000000000
0.0000000000
-0.2500000000
487852.1250000000
418732.6250000000
