0.2500000000
0.0000000000
0.0000000000
-0.2500000000
487937.3750000000
421009.1250000000
