0.2500000000
0.0000000000
0.0000000000
-0.2500000000
484502.1250000000
418858.3750000000
