0.2500000000
0.0000000000
0.0000000000
-0.2500000000
484587.8750000000
421134.8750000000
